BEGIN:VCALENDAR
VERSION:2.0
PRODID:-//sbgps.co.uk - ECPv6.5.2//NONSGML v1.0//EN
CALSCALE:GREGORIAN
METHOD:PUBLISH
X-WR-CALNAME:sbgps.co.uk
X-ORIGINAL-URL:http://sbgps.co.uk
X-WR-CALDESC:Events for sbgps.co.uk
REFRESH-INTERVAL;VALUE=DURATION:PT1H
X-Robots-Tag:noindex
X-PUBLISHED-TTL:PT1H
BEGIN:VTIMEZONE
TZID:Europe/London
BEGIN:DAYLIGHT
TZOFFSETFROM:+0000
TZOFFSETTO:+0100
TZNAME:BST
DTSTART:20230326T010000
END:DAYLIGHT
BEGIN:STANDARD
TZOFFSETFROM:+0100
TZOFFSETTO:+0000
TZNAME:GMT
DTSTART:20231029T010000
END:STANDARD
END:VTIMEZONE
BEGIN:VEVENT
DTSTART;TZID=Europe/London:20231203T180000
DTEND;TZID=Europe/London:20231203T233000
DTSTAMP:20260421T150756
CREATED:20231007T111312Z
LAST-MODIFIED:20231123T135111Z
UID:656-1701626400-1701646200@sbgps.co.uk
SUMMARY:Diwali Diner & Dance
DESCRIPTION:Join us for a sparkling Diwali Diner & Dance extravaganza with the vibrant members of SBGPS on the 3rd of December. Illuminate your evening with the warm glow of friendship and festivity as we celebrate the Festival of Lights in style. Indulge in a sumptuous feast of traditional Indian cuisine and get ready to groove to the rhythm of Bollywood beats. It’s a night of cultural fusion and joyful camaraderie that you won’t want to miss. Mark your calendars for a memorable Diwali soirée! \nVenue: \nClay Oven Banquet\n197 Ealing Road\, Wembley HA0 4LW \nTicket : \nAdults  – £30\nChildren under 12 -£15\nChildren under 5 FREE
URL:http://sbgps.co.uk/event/diwali-diner-dance/
CATEGORIES:Diwali
ATTACH;FMTTYPE=image/jpeg:http://sbgps.co.uk/wp-content/uploads/2023/10/pexels-yan-krukau-8819336-scaled.jpg
END:VEVENT
END:VCALENDAR